BEGIN:VCALENDAR
PRODID:-//K Desktop Environment//NONSGML libkcal 4.3//EN
VERSION:2.0
X-KDE-ICAL-IMPLEMENTATION-VERSION:1.0
X-WR-CALNAME:Mixed Signals Gaming
X-WR-TIMEZONE:UTC
BEGIN:VEVENT
DTSTAMP:20200917T233459Z
URL:http://jitsi.member.fsf.org/tabletop-rpg
CREATED:20200917T233459Z
UID:c7614cff-3549-4001-9152-d25cc1fe4001
LAST-MODIFIED:20200917T233459Z
DESCRIPTION:Shadowrun RPG
SUMMARY:Shadowrun 001
STATUS:CONFIRMED
CATEGORIES:Gaming
DTSTART:20201004T180000
DTEND:20201004T200000
TRANSP:TRANSPARENT
END:VEVENT
END:VCALENDAR
